BEGIN:VCALENDAR
VERSION:2.0
PRODID:-//Ajuntament Font d&#039;en Carròs - ECPv6.7.1//NONSGML v1.0//EN
CALSCALE:GREGORIAN
METHOD:PUBLISH
X-WR-CALNAME:Ajuntament Font d&#039;en Carròs
X-ORIGINAL-URL:https://rutes.lafontdencarros.es
X-WR-CALDESC:Eventos para Ajuntament Font d&#039;en Carròs
REFRESH-INTERVAL;VALUE=DURATION:PT1H
X-Robots-Tag:noindex
X-PUBLISHED-TTL:PT1H
BEGIN:VTIMEZONE
TZID:Europe/Madrid
BEGIN:DAYLIGHT
TZOFFSETFROM:+0100
TZOFFSETTO:+0200
TZNAME:CEST
DTSTART:20240331T010000
END:DAYLIGHT
BEGIN:STANDARD
TZOFFSETFROM:+0200
TZOFFSETTO:+0100
TZNAME:CET
DTSTART:20241027T010000
END:STANDARD
END:VTIMEZONE
BEGIN:VEVENT
DTSTART;TZID=Europe/Madrid:20240914T200000
DTEND;TZID=Europe/Madrid:20240914T233000
DTSTAMP:20260421T125318
CREATED:20241030T114829Z
LAST-MODIFIED:20241030T114829Z
UID:283-1726344000-1726356600@rutes.lafontdencarros.es
SUMMARY:NIT DE LLUNA AL CASTELL
DESCRIPTION:Dissabte 14 de setembre. Excursió nocturna al castell. Passeget senderista cap al castell i sopar amb teatret infantil L’HOME LLOP (l’Oracle de l’Est). \nEixida a les 20h\, des de l’edifici de turisme. Abans de l’eixida es prendrà nota de les dades dels assistents. \nEls menors hauran d’anar acompanyats per un adult. Cal dur vestit i calçat adequat\, llanterna\, entrepà\, aigua i sobretot comportament senderista. \n(Organitza: Centre Excursionista del Rebollet) PREU 1 EURO EN CONCEPTE D’ASSEGURANÇA.
URL:https://rutes.lafontdencarros.es/event/nit-de-lluna-al-castell/
LOCATION:Font d’en Carros\, Font d'en Carròs\, Comunitat Valenciana\, 46717\, Spain
END:VEVENT
BEGIN:VEVENT
DTSTART;TZID=Europe/Madrid:20240919T190000
DTEND;TZID=Europe/Madrid:20240919T203000
DTSTAMP:20260421T125318
CREATED:20241030T114928Z
LAST-MODIFIED:20241030T114928Z
UID:285-1726772400-1726777800@rutes.lafontdencarros.es
SUMMARY:PRESENTACIÓ DE LLIBRE
DESCRIPTION:Dijous 19 de setembre anem a presentar «La terra i la paraula» de Juli Capilla\, a les 19h a la biblioteca de la Font\, Pilar Gregori farà de presentadora.
URL:https://rutes.lafontdencarros.es/event/presentacio-de-llibre-3/
LOCATION:Font d’en Carros\, Font d'en Carròs\, Comunitat Valenciana\, 46717\, Spain
END:VEVENT
BEGIN:VEVENT
DTSTART;TZID=Europe/Madrid:20240922T100000
DTEND;TZID=Europe/Madrid:20240922T143000
DTSTAMP:20260421T125318
CREATED:20241030T115111Z
LAST-MODIFIED:20241030T115111Z
UID:289-1726999200-1727015400@rutes.lafontdencarros.es
SUMMARY:FESTA I MERCAT P.E.P.A
DESCRIPTION:Diumenge 22 de setembre des de les 10h fins a les 14.30h\, al parc Tirant i Carmesina\, FESTA I MERCAT organitzat per P.E.P.A. associació protectora d’animals. Jocs\, activitats\, competicions\, música\, mercat artesanal i de segona mà.
URL:https://rutes.lafontdencarros.es/event/festa-i-mercat-p-e-p-a/
LOCATION:Font d’en Carros\, Font d'en Carròs\, Comunitat Valenciana\, 46717\, Spain
END:VEVENT
BEGIN:VEVENT
DTSTART;TZID=Europe/Madrid:20240928T173000
DTEND;TZID=Europe/Madrid:20240928T183000
DTSTAMP:20260421T125318
CREATED:20241030T115013Z
LAST-MODIFIED:20241030T115013Z
UID:287-1727544600-1727548200@rutes.lafontdencarros.es
SUMMARY:CLUB DE LECTURA
DESCRIPTION:Dissabte 28 de setembre a les 17.30h\, a la biblioteca (Edifici Polivalent)\, comentem el llibre «El país de los otros»\, de Leila Slimani.
URL:https://rutes.lafontdencarros.es/event/club-de-lectura-3/
LOCATION:Font d’en Carros\, Font d'en Carròs\, Comunitat Valenciana\, 46717\, Spain
END:VEVENT
END:VCALENDAR