BEGIN:VCALENDAR
VERSION:2.0
PRODID:-//Ajuntament Font d&#039;en Carròs - ECPv6.7.1//NONSGML v1.0//EN
CALSCALE:GREGORIAN
METHOD:PUBLISH
X-ORIGINAL-URL:https://rutes.lafontdencarros.es
X-WR-CALDESC:Eventos para Ajuntament Font d&#039;en Carròs
REFRESH-INTERVAL;VALUE=DURATION:PT1H
X-Robots-Tag:noindex
X-PUBLISHED-TTL:PT1H
BEGIN:VTIMEZONE
TZID:Europe/Madrid
BEGIN:DAYLIGHT
TZOFFSETFROM:+0100
TZOFFSETTO:+0200
TZNAME:CEST
DTSTART:20240331T010000
END:DAYLIGHT
BEGIN:STANDARD
TZOFFSETFROM:+0200
TZOFFSETTO:+0100
TZNAME:CET
DTSTART:20241027T010000
END:STANDARD
END:VTIMEZONE
BEGIN:VEVENT
DTSTART;TZID=Europe/Madrid:20240801T213000
DTEND;TZID=Europe/Madrid:20240801T223000
DTSTAMP:20260421T141529
CREATED:20241030T114341Z
LAST-MODIFIED:20241030T114341Z
UID:275-1722547800-1722551400@rutes.lafontdencarros.es
SUMMARY:CINEMA D'ESTIU
DESCRIPTION:Dijous 1 d’agost a les 21.30h\, al pati del Patronat\, cinema per a públic familiar
URL:https://rutes.lafontdencarros.es/event/cinema-destiu/
LOCATION:Font d’en Carros\, Font d'en Carròs\, Comunitat Valenciana\, 46717\, Spain
END:VEVENT
BEGIN:VEVENT
DTSTART;TZID=Europe/Madrid:20240814T200000
DTEND;TZID=Europe/Madrid:20240814T210000
DTSTAMP:20260421T141529
CREATED:20241030T114442Z
LAST-MODIFIED:20241030T114442Z
UID:277-1723665600-1723669200@rutes.lafontdencarros.es
SUMMARY:EXPOSICIÓ DE PINTURA
DESCRIPTION:Dimecres 14 d’agost a les 20h\, Edifici Polivalent\, inauguració d’ EXPOSICIÓ DE PINTURA D’ARTISTES COMARCALS.
URL:https://rutes.lafontdencarros.es/event/exposicio-de-pintura/
LOCATION:Font d’en Carros\, Font d'en Carròs\, Comunitat Valenciana\, 46717\, Spain
END:VEVENT
BEGIN:VEVENT
DTSTART;TZID=Europe/Madrid:20240814T220000
DTEND;TZID=Europe/Madrid:20240814T233000
DTSTAMP:20260421T141529
CREATED:20241030T114520Z
LAST-MODIFIED:20241030T114520Z
UID:279-1723672800-1723678200@rutes.lafontdencarros.es
SUMMARY:CAFÈ CONCERT
DESCRIPTION:Dimecres 14 d’agost  a les 22h\, a la terassa de la plaça dels Xorros\, Cafè Concert amb la Banda de Música.
URL:https://rutes.lafontdencarros.es/event/cafe-concert/
LOCATION:Font d’en Carros\, Font d'en Carròs\, Comunitat Valenciana\, 46717\, Spain
END:VEVENT
BEGIN:VEVENT
DTSTART;TZID=Europe/Madrid:20240829T213000
DTEND;TZID=Europe/Madrid:20240829T233000
DTSTAMP:20260421T141529
CREATED:20241030T114557Z
LAST-MODIFIED:20241030T114557Z
UID:281-1724967000-1724974200@rutes.lafontdencarros.es
SUMMARY:CINEMA D'ESTIU
DESCRIPTION:Dijous 29 d’agost a les 21.30h\, al pati del patronat\, cinema per a públic familiar.
URL:https://rutes.lafontdencarros.es/event/cinema-destiu-2/
LOCATION:Font d’en Carros\, Font d'en Carròs\, Comunitat Valenciana\, 46717\, Spain
END:VEVENT
END:VCALENDAR