BEGIN:VCALENDAR
VERSION:2.0
PRODID:-//Ajuntament Font d&#039;en Carròs - ECPv6.7.1//NONSGML v1.0//EN
CALSCALE:GREGORIAN
METHOD:PUBLISH
X-WR-CALNAME:Ajuntament Font d&#039;en Carròs
X-ORIGINAL-URL:https://rutes.lafontdencarros.es
X-WR-CALDESC:Eventos para Ajuntament Font d&#039;en Carròs
REFRESH-INTERVAL;VALUE=DURATION:PT1H
X-Robots-Tag:noindex
X-PUBLISHED-TTL:PT1H
BEGIN:VTIMEZONE
TZID:Europe/Madrid
BEGIN:DAYLIGHT
TZOFFSETFROM:+0100
TZOFFSETTO:+0200
TZNAME:CEST
DTSTART:20240331T010000
END:DAYLIGHT
BEGIN:STANDARD
TZOFFSETFROM:+0200
TZOFFSETTO:+0100
TZNAME:CET
DTSTART:20241027T010000
END:STANDARD
END:VTIMEZONE
BEGIN:VEVENT
DTSTART;TZID=Europe/Madrid:20240608T090000
DTEND;TZID=Europe/Madrid:20240608T100000
DTSTAMP:20260421T170233
CREATED:20241030T112004Z
LAST-MODIFIED:20241030T112004Z
UID:259-1717837200-1717840800@rutes.lafontdencarros.es
SUMMARY:LA FONT GAMES
DESCRIPTION:Dissabte 8 de juny a les 9h\, competició esportiva funcional al pavelló de l’escola. Més informació als cartells d’anunci de l’esdeveniment.
URL:https://rutes.lafontdencarros.es/event/la-font-games/
LOCATION:Font d’en Carros\, Font d'en Carròs\, Comunitat Valenciana\, 46717\, Spain
END:VEVENT
BEGIN:VEVENT
DTSTART;TZID=Europe/Madrid:20240614T180000
DTEND;TZID=Europe/Madrid:20240614T193000
DTSTAMP:20260421T170233
CREATED:20241030T112226Z
LAST-MODIFIED:20241030T112226Z
UID:261-1718388000-1718393400@rutes.lafontdencarros.es
SUMMARY:BENESTAR JOVE
DESCRIPTION:Divendres 14 de juny a les 18h\, 2na pis Edifici Polivalent\, taller de cuina BERENAR SALUDABLE dirigit a joves a partir d’11 anys.
URL:https://rutes.lafontdencarros.es/event/benestar-jove-2/
LOCATION:Font d’en Carros\, Font d'en Carròs\, Comunitat Valenciana\, 46717\, Spain
END:VEVENT
BEGIN:VEVENT
DTSTART;TZID=Europe/Madrid:20240618T200000
DTEND;TZID=Europe/Madrid:20240618T210000
DTSTAMP:20260421T170233
CREATED:20241030T112439Z
LAST-MODIFIED:20241030T113603Z
UID:263-1718740800-1718744400@rutes.lafontdencarros.es
SUMMARY:Taller de fotografia "Estellés: imatge i paraula"
DESCRIPTION:A les 20h\, Edifici Polivalent\, taller de fotografia «Estellés: imatge i paraula». Professor Pere Huerta.
URL:https://rutes.lafontdencarros.es/event/taller-de-fotografia-estelles-imatge-i-paraula/
LOCATION:Font d’en Carros\, Font d'en Carròs\, Comunitat Valenciana\, 46717\, Spain
END:VEVENT
BEGIN:VEVENT
DTSTART;TZID=Europe/Madrid:20240621T190000
DTEND;TZID=Europe/Madrid:20240621T230000
DTSTAMP:20260421T170233
CREATED:20241030T113911Z
LAST-MODIFIED:20241030T113911Z
UID:267-1718996400-1719010800@rutes.lafontdencarros.es
SUMMARY:NIT DE FANALETS
DESCRIPTION:Totes les activitats en la Pl. Ajuntament: 19h taller de fanalets / 21h passacarrer dolçaines / a continuació sopar popular de cabacet / 22h espectacle «Carro de jocs» (Ameba Teatre).
URL:https://rutes.lafontdencarros.es/event/nit-de-fanalets/
LOCATION:Font d’en Carros\, Font d'en Carròs\, Comunitat Valenciana\, 46717\, Spain
END:VEVENT
BEGIN:VEVENT
DTSTART;TZID=Europe/Madrid:20240624T000000
DTEND;TZID=Europe/Madrid:20240628T235959
DTSTAMP:20260421T170233
CREATED:20241030T113753Z
LAST-MODIFIED:20241030T113753Z
UID:265-1719187200-1719619199@rutes.lafontdencarros.es
SUMMARY:SETMANA DE L'ESPORT
DESCRIPTION:Durant tota la setmana es realitzaran diferents activitats esportives al poliesportiu municipal. \nMés informació de les activitats als cartells publicitaris.
URL:https://rutes.lafontdencarros.es/event/setmana-de-lesport/
LOCATION:Font d’en Carros\, Font d'en Carròs\, Comunitat Valenciana\, 46717\, Spain
END:VEVENT
END:VCALENDAR