BEGIN:VCALENDAR
VERSION:2.0
PRODID:-//Ajuntament Font d&#039;en Carròs - ECPv6.7.1//NONSGML v1.0//EN
CALSCALE:GREGORIAN
METHOD:PUBLISH
X-WR-CALNAME:Ajuntament Font d&#039;en Carròs
X-ORIGINAL-URL:https://rutes.lafontdencarros.es
X-WR-CALDESC:Eventos para Ajuntament Font d&#039;en Carròs
REFRESH-INTERVAL;VALUE=DURATION:PT1H
X-Robots-Tag:noindex
X-PUBLISHED-TTL:PT1H
BEGIN:VTIMEZONE
TZID:Europe/Madrid
BEGIN:DAYLIGHT
TZOFFSETFROM:+0100
TZOFFSETTO:+0200
TZNAME:CEST
DTSTART:20240331T010000
END:DAYLIGHT
BEGIN:STANDARD
TZOFFSETFROM:+0200
TZOFFSETTO:+0100
TZNAME:CET
DTSTART:20241027T010000
END:STANDARD
END:VTIMEZONE
BEGIN:VEVENT
DTSTART;TZID=Europe/Madrid:20241008T200000
DTEND;TZID=Europe/Madrid:20241008T233000
DTSTAMP:20260421T154315
CREATED:20241030T115247Z
LAST-MODIFIED:20241030T115247Z
UID:291-1728417600-1728430200@rutes.lafontdencarros.es
SUMMARY:Sopar Estellés
DESCRIPTION:Dimarts 8 d’octubre\, 20h\, a l’Edifici Polivalent\, Sopar Estellés: lectura de poemes\, lliurament premis La Paraula Imaginada\, \, sopar de cabacet\, inauguració exposició fotogràfica «Estellés a cau d’orella» (Pere Huerta). 21h Actuació musical «Temps\, arrels i paisatges»\, a càrrec de la cantautora Eva Gómez. (cal apuntar-se a LA BIBLIOTECA per a participar en la lectura de poemes).
URL:https://rutes.lafontdencarros.es/event/sopar-estelles/
LOCATION:Font d’en Carros\, Font d'en Carròs\, Comunitat Valenciana\, 46717\, Spain
END:VEVENT
BEGIN:VEVENT
DTSTART;TZID=Europe/Madrid:20241013T180000
DTEND;TZID=Europe/Madrid:20241013T200000
DTSTAMP:20260421T154315
CREATED:20241030T115327Z
LAST-MODIFIED:20241030T115327Z
UID:293-1728842400-1728849600@rutes.lafontdencarros.es
SUMMARY:TEATRE INFANTIL
DESCRIPTION:Diumenge 13 d’octubre a les 18h\, casa de la Cultura\, teatre tots els públics «DRÀCULA» (La Tourné Teatre)
URL:https://rutes.lafontdencarros.es/event/teatre-infantil/
LOCATION:Font d’en Carros\, Font d'en Carròs\, Comunitat Valenciana\, 46717\, Spain
END:VEVENT
BEGIN:VEVENT
DTSTART;TZID=Europe/Madrid:20241017T190000
DTEND;TZID=Europe/Madrid:20241017T203000
DTSTAMP:20260421T154315
CREATED:20241030T115515Z
LAST-MODIFIED:20241030T115515Z
UID:297-1729191600-1729197000@rutes.lafontdencarros.es
SUMMARY:Presentació llibre VIA VICTIS
DESCRIPTION:El dijous 17 d’octubre\, a les 19h\, a la biblioteca\, presentació de llibre VIA VICTIS de Francisco Sánchez. Presenta Cèlia.
URL:https://rutes.lafontdencarros.es/event/presentacio-llibre-via-victis/
LOCATION:Font d’en Carros\, Font d'en Carròs\, Comunitat Valenciana\, 46717\, Spain
END:VEVENT
BEGIN:VEVENT
DTSTART;TZID=Europe/Madrid:20241030T173000
DTEND;TZID=Europe/Madrid:20241030T190000
DTSTAMP:20260421T154315
CREATED:20241030T115416Z
LAST-MODIFIED:20241030T115416Z
UID:295-1730309400-1730314800@rutes.lafontdencarros.es
SUMMARY:Contes per a públic familiar
DESCRIPTION:Dimecres 30 d’octubre\, a les 17.30h\, a la biblioteca contes per a públic familiar LA NÚVIA CADAVER (l’Oracle de l’Est)
URL:https://rutes.lafontdencarros.es/event/contes-per-a-public-familiar/
LOCATION:Font d’en Carros\, Font d'en Carròs\, Comunitat Valenciana\, 46717\, Spain
END:VEVENT
BEGIN:VEVENT
DTSTART;TZID=Europe/Madrid:20241110T100000
DTEND;TZID=Europe/Madrid:20241110T140000
DTSTAMP:20260421T154315
CREATED:20241030T115555Z
LAST-MODIFIED:20241030T115555Z
UID:299-1731232800-1731247200@rutes.lafontdencarros.es
SUMMARY:Mercat Allibera't
DESCRIPTION:Diumenge 10 de novembre\, De 10 a 14 Mercat Allibera’t al parc Tirant i Carmesina. Mercat per a fomentar la reutilització.
URL:https://rutes.lafontdencarros.es/event/mercat-alliberat/
LOCATION:Font d’en Carros\, Font d'en Carròs\, Comunitat Valenciana\, 46717\, Spain
END:VEVENT
BEGIN:VEVENT
DTSTART;TZID=Europe/Madrid:20241117T103000
DTEND;TZID=Europe/Madrid:20241117T130000
DTSTAMP:20260421T154315
CREATED:20241030T115738Z
LAST-MODIFIED:20241030T115738Z
UID:301-1731839400-1731848400@rutes.lafontdencarros.es
SUMMARY:SANTA CECÍLIA
DESCRIPTION:Diumenge 17 de novembre a les 10:30h arreplegada de nous músics i a les 12h missa en honor a Santa Cecília.
URL:https://rutes.lafontdencarros.es/event/santa-cecilia/
LOCATION:Font d’en Carros\, Font d'en Carròs\, Comunitat Valenciana\, 46717\, Spain
END:VEVENT
BEGIN:VEVENT
DTSTART;TZID=Europe/Madrid:20241120T173000
DTEND;TZID=Europe/Madrid:20241120T190000
DTSTAMP:20260421T154315
CREATED:20241030T115826Z
LAST-MODIFIED:20241030T115826Z
UID:303-1732123800-1732129200@rutes.lafontdencarros.es
SUMMARY:SESSIÓ DE KAMISHIBAI
DESCRIPTION:Dimecres 20 de novembre\, a les 17\,30h\, la biblioteca\, SESSIÓ DE KAMISHIBAI (Titelles la Matallina) dirigit a majors a ESO\, Batxiller i adults.
URL:https://rutes.lafontdencarros.es/event/sessio-de-kamishibai/
LOCATION:Font d’en Carros\, Font d'en Carròs\, Comunitat Valenciana\, 46717\, Spain
END:VEVENT
BEGIN:VEVENT
DTSTART;TZID=Europe/Madrid:20241124T100000
DTEND;TZID=Europe/Madrid:20241124T130000
DTSTAMP:20260421T154315
CREATED:20241030T115912Z
LAST-MODIFIED:20241030T115912Z
UID:305-1732442400-1732453200@rutes.lafontdencarros.es
SUMMARY:RUTA CICLOTURISTICA DELS MOLINS
DESCRIPTION:Diumenge 24 de novembre a les 10h eixida des de la Plaça de l’Ajuntament.
URL:https://rutes.lafontdencarros.es/event/ruta-cicloturistica-dels-molins/
LOCATION:Font d’en Carros\, Font d'en Carròs\, Comunitat Valenciana\, 46717\, Spain
END:VEVENT
BEGIN:VEVENT
DTSTART;TZID=Europe/Madrid:20241129T193000
DTEND;TZID=Europe/Madrid:20241129T203000
DTSTAMP:20260421T154315
CREATED:20241030T120030Z
LAST-MODIFIED:20241030T120030Z
UID:307-1732908600-1732912200@rutes.lafontdencarros.es
SUMMARY:Inauguració de l'exposició "Hidraulics a les cases de la Font"
DESCRIPTION:Divendres 29 de novembre\, a les 19:30h\, Edifici Polivalent\, inauguració de l’exposició «Hidraulics a les cases de la Font»\, a càrrec de Projectes Hidràulics. Una sèrie de fotografies on es mostren cases que encara mantenen els taulells hidràulics. L’exposició es podrà visitar en horari de biblioteca.
URL:https://rutes.lafontdencarros.es/event/inauguracio-de-lexposicio-hidraulics-a-les-cases-de-la-font/
LOCATION:Font d’en Carros\, Font d'en Carròs\, Comunitat Valenciana\, 46717\, Spain
END:VEVENT
BEGIN:VEVENT
DTSTART;TZID=Europe/Madrid:20241215T180000
DTEND;TZID=Europe/Madrid:20241215T200000
DTSTAMP:20260421T154315
CREATED:20241030T120133Z
LAST-MODIFIED:20241030T120133Z
UID:309-1734285600-1734292800@rutes.lafontdencarros.es
SUMMARY:Teatre públic familiar amb l'obra NOSFERATU
DESCRIPTION:Diumenge 15 de desembre\, a les 18.00h\, a la casa de la cultura\, teatre públic familiar amb l’obra NOSFERATU (Ameba Teatre). \nRecaptació íntegra a benefici de la Campanya de Nadal i Reis del Preventori.
URL:https://rutes.lafontdencarros.es/event/teatre-public-familiar-amb-lobra-nosferatu/
LOCATION:Font d’en Carros\, Font d'en Carròs\, Comunitat Valenciana\, 46717\, Spain
END:VEVENT
BEGIN:VEVENT
DTSTART;TZID=Europe/Madrid:20241222T180000
DTEND;TZID=Europe/Madrid:20241222T200000
DTSTAMP:20260421T154315
CREATED:20241030T120225Z
LAST-MODIFIED:20241030T120230Z
UID:311-1734890400-1734897600@rutes.lafontdencarros.es
SUMMARY:Concert de Nadal
DESCRIPTION:Concert de Nadal 18/18:30h.
URL:https://rutes.lafontdencarros.es/event/concert-de-nadal/
LOCATION:Font d’en Carros\, Font d'en Carròs\, Comunitat Valenciana\, 46717\, Spain
END:VEVENT
BEGIN:VEVENT
DTSTART;TZID=Europe/Madrid:20241229T000000
DTEND;TZID=Europe/Madrid:20241229T235959
DTSTAMP:20260421T154315
CREATED:20241030T120318Z
LAST-MODIFIED:20241030T120318Z
UID:314-1735430400-1735516799@rutes.lafontdencarros.es
SUMMARY:Arreplegada de les cartes per als Reis d’Orient
DESCRIPTION:Arreplegada de les cartes per als Reis d’Orient; la Colla de Dolçainers i Tabaleters\, i els patges de Ses Majestats\, acompanyats per una burreta\, passejaran pels carrers del poble arreplegant les cartes. El recorregut serà des de la plaça de l’Ajuntament i acabant també a la plaça de l’Ajuntament.
URL:https://rutes.lafontdencarros.es/event/arreplegada-de-les-cartes-per-als-reis-dorient/
LOCATION:Font d’en Carros\, Font d'en Carròs\, Comunitat Valenciana\, 46717\, Spain
END:VEVENT
END:VCALENDAR