BEGIN:VCALENDAR
VERSION:2.0
PRODID:-//Ajuntament Font d&#039;en Carròs - ECPv6.7.1//NONSGML v1.0//EN
CALSCALE:GREGORIAN
METHOD:PUBLISH
X-WR-CALNAME:Ajuntament Font d&#039;en Carròs
X-ORIGINAL-URL:https://rutes.lafontdencarros.es
X-WR-CALDESC:Eventos para Ajuntament Font d&#039;en Carròs
REFRESH-INTERVAL;VALUE=DURATION:PT1H
X-Robots-Tag:noindex
X-PUBLISHED-TTL:PT1H
BEGIN:VTIMEZONE
TZID:Europe/Madrid
BEGIN:DAYLIGHT
TZOFFSETFROM:+0100
TZOFFSETTO:+0200
TZNAME:CEST
DTSTART:20240331T010000
END:DAYLIGHT
BEGIN:STANDARD
TZOFFSETFROM:+0200
TZOFFSETTO:+0100
TZNAME:CET
DTSTART:20241027T010000
END:STANDARD
END:VTIMEZONE
BEGIN:VEVENT
DTSTART;TZID=Europe/Madrid:20241030T173000
DTEND;TZID=Europe/Madrid:20241030T190000
DTSTAMP:20260421T114930
CREATED:20241030T115416Z
LAST-MODIFIED:20241030T115416Z
UID:295-1730309400-1730314800@rutes.lafontdencarros.es
SUMMARY:Contes per a públic familiar
DESCRIPTION:Dimecres 30 d’octubre\, a les 17.30h\, a la biblioteca contes per a públic familiar LA NÚVIA CADAVER (l’Oracle de l’Est)
URL:https://rutes.lafontdencarros.es/event/contes-per-a-public-familiar/
LOCATION:Font d’en Carros\, Font d'en Carròs\, Comunitat Valenciana\, 46717\, Spain
END:VEVENT
END:VCALENDAR