BEGIN:VCALENDAR
VERSION:2.0
PRODID:-//Ajuntament Font d&#039;en Carròs - ECPv6.7.1//NONSGML v1.0//EN
CALSCALE:GREGORIAN
METHOD:PUBLISH
X-ORIGINAL-URL:https://rutes.lafontdencarros.es
X-WR-CALDESC:Eventos para Ajuntament Font d&#039;en Carròs
REFRESH-INTERVAL;VALUE=DURATION:PT1H
X-Robots-Tag:noindex
X-PUBLISHED-TTL:PT1H
BEGIN:VTIMEZONE
TZID:Europe/Madrid
BEGIN:DAYLIGHT
TZOFFSETFROM:+0100
TZOFFSETTO:+0200
TZNAME:CEST
DTSTART:20240331T010000
END:DAYLIGHT
BEGIN:STANDARD
TZOFFSETFROM:+0200
TZOFFSETTO:+0100
TZNAME:CET
DTSTART:20241027T010000
END:STANDARD
END:VTIMEZONE
BEGIN:VEVENT
DTSTART;TZID=Europe/Madrid:20241013T180000
DTEND;TZID=Europe/Madrid:20241013T200000
DTSTAMP:20260421T125428
CREATED:20241030T115327Z
LAST-MODIFIED:20241030T115327Z
UID:293-1728842400-1728849600@rutes.lafontdencarros.es
SUMMARY:TEATRE INFANTIL
DESCRIPTION:Diumenge 13 d’octubre a les 18h\, casa de la Cultura\, teatre tots els públics «DRÀCULA» (La Tourné Teatre)
URL:https://rutes.lafontdencarros.es/event/teatre-infantil/
LOCATION:Font d’en Carros\, Font d'en Carròs\, Comunitat Valenciana\, 46717\, Spain
END:VEVENT
END:VCALENDAR