BEGIN:VCALENDAR
VERSION:2.0
PRODID:-//Ajuntament Font d&#039;en Carròs - ECPv6.7.1//NONSGML v1.0//EN
CALSCALE:GREGORIAN
METHOD:PUBLISH
X-WR-CALNAME:Ajuntament Font d&#039;en Carròs
X-ORIGINAL-URL:https://rutes.lafontdencarros.es
X-WR-CALDESC:Eventos para Ajuntament Font d&#039;en Carròs
REFRESH-INTERVAL;VALUE=DURATION:PT1H
X-Robots-Tag:noindex
X-PUBLISHED-TTL:PT1H
BEGIN:VTIMEZONE
TZID:Europe/Madrid
BEGIN:DAYLIGHT
TZOFFSETFROM:+0100
TZOFFSETTO:+0200
TZNAME:CEST
DTSTART:20240331T010000
END:DAYLIGHT
BEGIN:STANDARD
TZOFFSETFROM:+0200
TZOFFSETTO:+0100
TZNAME:CET
DTSTART:20241027T010000
END:STANDARD
END:VTIMEZONE
BEGIN:VEVENT
DTSTART;TZID=Europe/Madrid:20240310T150000
DTEND;TZID=Europe/Madrid:20240310T200000
DTSTAMP:20260421T231931
CREATED:20241030T105457Z
LAST-MODIFIED:20241030T105457Z
UID:239-1710082800-1710100800@rutes.lafontdencarros.es
SUMMARY:Dinar Dia de la Dona
DESCRIPTION:Diumenge 10 de març: Dinar Dia de la Dona (organitza Assoc. de dones). \nPer la vesprada\, a les 19h a la Casa de la Cultura\, homenatge a les dones: Col·lectiu Dones Cuidadores. En acabar\, gaudirem amb la música de «The Umbrellas»\, per a retre homenatge a les veus femenines més potents de la història de la música actual.
URL:https://rutes.lafontdencarros.es/event/dinar-dia-de-la-dona/
LOCATION:Font d’en Carros\, Font d'en Carròs\, Comunitat Valenciana\, 46717\, Spain
END:VEVENT
END:VCALENDAR