BEGIN:VCALENDAR
VERSION:2.0
PRODID:-//Ajuntament Font d&#039;en Carròs - ECPv6.7.1//NONSGML v1.0//EN
CALSCALE:GREGORIAN
METHOD:PUBLISH
X-WR-CALNAME:Ajuntament Font d&#039;en Carròs
X-ORIGINAL-URL:https://rutes.lafontdencarros.es
X-WR-CALDESC:Eventos para Ajuntament Font d&#039;en Carròs
REFRESH-INTERVAL;VALUE=DURATION:PT1H
X-Robots-Tag:noindex
X-PUBLISHED-TTL:PT1H
BEGIN:VTIMEZONE
TZID:Europe/Madrid
BEGIN:DAYLIGHT
TZOFFSETFROM:+0100
TZOFFSETTO:+0200
TZNAME:CEST
DTSTART:20240331T010000
END:DAYLIGHT
BEGIN:STANDARD
TZOFFSETFROM:+0200
TZOFFSETTO:+0100
TZNAME:CET
DTSTART:20241027T010000
END:STANDARD
END:VTIMEZONE
BEGIN:VEVENT
DTSTART;TZID=Europe/Madrid:20240223T200000
DTEND;TZID=Europe/Madrid:20240223T210000
DTSTAMP:20260422T004147
CREATED:20241030T105219Z
LAST-MODIFIED:20241030T105219Z
UID:235-1708718400-1708722000@rutes.lafontdencarros.es
SUMMARY:PREMIS RELATS BREUS
DESCRIPTION:A les 20h\, a la casa de la cultura\, lliurament de premis del Concurs de Relat Breu i del Concurs Cartells de Relat Breu. Lectura dels relats premiats amb acompanyament musical.
URL:https://rutes.lafontdencarros.es/event/premis-relats-breus/
LOCATION:Font d’en Carros\, Font d'en Carròs\, Comunitat Valenciana\, 46717\, Spain
END:VEVENT
END:VCALENDAR